BEGIN:VCALENDAR
VERSION:2.0
PRODID:-//ChamberMaster//Event Calendar 2.0//EN
METHOD:PUBLISH
X-PUBLISHED-TTL:P3D
REFRESH-INTERVAL:P3D
CALSCALE:GREGORIAN
BEGIN:VEVENT
DTSTART:20100424T213000Z
DTEND:20100424T233000Z
X-MICROSOFT-CDO-ALLDAYEVENT:FALSE
SUMMARY:Sacramento Sustainability Forum: ''The Chambers and Sustainability'' @ Sacramento Green Expo
DESCRIPTION:Right on the heels of the Media Panel during the Green California Summit in March\, April's Forum is now on the calendar. This is a not to be missed event. \n\nWhether or not you are a business owner or a member of these organizations\, this is your opportunity as a member of the community to engage with the panelists representing our region's chambers of commerce during the Sacramento Green Expo at the Cal Expo Pavilion Building. April's topic: "The Chambers and Sustainability." \n\nTake a moment\, register today at: http://www.sacramentosustainabilityforum.com \n\nThe Sacramento Sustainability Forum panel event and the Sacramento Green Expo are both FREE to attendees. Cal Expo does charge for parking in East Gate - Lot D. \n\nAbout SSF: Sacramento Sustainability Forum is a monthly venue for connecting businesses\, non-profits\, government and interested citizens in the Sacramento region in order to promote sustainability\, share insights and resources\, and support movement towards a more sustainable future.
X-ALT-DESC;FMTTYPE=text/html:Right on the heels of the Media Panel during the Green California Summit in March\, April's Forum is now on the calendar. This is a not to be missed event. \n\nWhether or not you are a business owner or a member of these organizations\, this is your opportunity as a member of the community to engage with the panelists representing our region's chambers of commerce during the Sacramento Green Expo at the Cal Expo Pavilion Building. April's topic: "The Chambers and Sustainability." \n\nTake a moment\, register today at: http://www.sacramentosustainabilityforum.com \n\nThe Sacramento Sustainability Forum panel event and the Sacramento Green Expo are both FREE to attendees. Cal Expo does charge for parking in East Gate - Lot D. \n\nAbout SSF: Sacramento Sustainability Forum is a monthly venue for connecting businesses\, non-profits\, government and interested citizens in the Sacramento region in order to promote sustainability\, share insights and resources\, and support movement towards a more sustainable future. \n
LOCATION:1600 Exposition Blvd.\, Sacramento\, CA 95815 Cal Expo Pavilion Building 1600 Exposition Blvd. East Gate - Lot D Sacramento\, CA 95815
UID:e.2957.979
SEQUENCE:3
DTSTAMP:20260422T153816Z
URL:https://www.westsacramentochamber.com/events/details/sacramento-sustainability-forum-the-chambers-and-sustainability-sacramento-green-expo-979
END:VEVENT

END:VCALENDAR
