BEGIN:VCALENDAR
VERSION:2.0
PRODID:-//ChamberMaster//Event Calendar 2.0//EN
METHOD:PUBLISH
X-PUBLISHED-TTL:P3D
REFRESH-INTERVAL:P3D
CALSCALE:GREGORIAN
BEGIN:VEVENT
DTSTART:20110721T183000Z
DTEND:20110721T201500Z
X-MICROSOFT-CDO-ALLDAYEVENT:FALSE
SUMMARY:Sacramento Mayor Kevin Johnson to speak at Chamber Luncheon
DESCRIPTION:Mayor Johnson is seeking regional support for the proposed Sacramento Entertainment and Sports Complex.  Come hear details about the proposed project and ask your questions. Seats (will include lunch) are $25 for members of a Yolo County Chamber and $30 for non members.  Space is limited.
X-ALT-DESC;FMTTYPE=text/html:Mayor Johnson is seeking regional support for the proposed Sacramento Entertainment and Sports Complex.  Come hear details about the proposed project and ask your questions. Seats (will include lunch) are $25 for members of a Yolo County Chamber and $30 for non members.  Space is limited.    \n
LOCATION:2001 East Street\, Woodland\, Ca 95776 Woodland Community & Senior Center
UID:e.2957.1084
SEQUENCE:3
DTSTAMP:20260423T121431Z
URL:https://www.westsacramentochamber.com/events/details/sacramento-mayor-kevin-johnson-to-speak-at-chamber-luncheon-1084
END:VEVENT

END:VCALENDAR
