BEGIN:VCALENDAR
VERSION:2.0
PRODID:-//ChamberMaster//Event Calendar 2.0//EN
METHOD:PUBLISH
X-PUBLISHED-TTL:P3D
REFRESH-INTERVAL:P3D
CALSCALE:GREGORIAN
BEGIN:VEVENT
DTSTART:20100705T010000Z
DTEND:20100705T010000Z
X-MICROSOFT-CDO-ALLDAYEVENT:FALSE
SUMMARY:Sacramento Independence Day Celebration
DESCRIPTION:Cal Expo proudly joins the City and County of Sacramento to produce the largest-scale pyrotechnics display in the area. The Independence Day Celebration is a family-oriented collection of activities focused around our Nation's birthday. In addition to the spectacular fireworks display\, the Celebration also includes food\, music and dancing in the Grandstand area by Mobility Air Force Band!\n\nGates open at 6pm. Fireworks approximately 9:30pm.
X-ALT-DESC;FMTTYPE=text/html:Cal Expo proudly joins the City and County of Sacramento to produce the largest-scale pyrotechnics display in the area. The Independence Day Celebration is a family-oriented collection of activities focused around our Nation's birthday. In addition to the spectacular fireworks display\, the Celebration also includes food\, music and dancing in the Grandstand area by Mobility Air Force Band!\n\nGates open at 6pm. Fireworks approximately 9:30pm.\n
LOCATION:Cal Expo\, Sacramento\, CA 95815 Cal Expo Miller-Lite Grandstand 1600 Exposition Blvd. Sacramento \, CA 95815 Driving Directions From the Bay Area Take Highway 80 (East) to Capitol City Freeway (Business 80) (North). Exit Exposition Blvd. From Stockton Take Highway 5 (North) to Highway 50 (East) or Highway 99 (North). Travel Capitol City Freeway (Business 80) (North). Exit Exposition Blvd. From Tahoe Area Northshore\, take Highway 80 (West) to Capitol City Freeway (Business 80) (South). Exit Exposition Blvd. Southshore\, take Highway 50 (West) to Capitol City Freeway (Business 80) (South). Exit Exposition Blvd. From Placerville Take Highway 50 (West) to Howe Ave. (North). Turn left on Hurley Way . Turn right at Ethan Way \, then left on Exposition Blvd. From Redding Take Highway 80 (South) to Highway 50 (East). Travel Capitol City Freeway (Business 80) (North). Exit Exposition Blvd.
UID:e.2957.982
SEQUENCE:3
DTSTAMP:20260422T150840Z
URL:https://www.westsacramentochamber.com/events/details/sacramento-independence-day-celebration-982
END:VEVENT

END:VCALENDAR
