BEGIN:VCALENDAR
VERSION:2.0
PRODID:-//ChamberMaster//Event Calendar 2.0//EN
METHOD:PUBLISH
X-PUBLISHED-TTL:P3D
REFRESH-INTERVAL:P3D
CALSCALE:GREGORIAN
BEGIN:VEVENT
DTSTART:20100424T170000Z
DTEND:20100424T170000Z
X-MICROSOFT-CDO-ALLDAYEVENT:FALSE
SUMMARY:Sacramento Green Expo
DESCRIPTION:Sacramento's first sustainable lifestyle expo! Be a part of Sacramento's first major green living   Sun 10am-6pm
X-ALT-DESC;FMTTYPE=text/html:Sacramento's first sustainable lifestyle expo! Be a part of Sacramento's first major green living & lifestyle expo! A fun and interesting family event that will help the local community live a more environmentally conscious lifestyle. Experience the latest in earth friendly products and information.\nA green event for the entire family includes: Riveting keynote speakers\, hands-on demonstrations\, multiple kid's zones\, the freshest local farmer's market\, a green job fair\, tasty organic goodies\, contests\, and so much more. Attendees will find hundreds of quality products and services including: food & beverage\, apparel\, home & garden\, eco-travel & transportation\, and health & beauty.\nThe Sacramento Green Expo is designed to bring together businesses\, civic and non-profit organizations that are helping make the green lifestyle accessible\, affordable\, and convenient.\n\nFREE ADMISSION!!!\n\nTimes:Sat 10am-7pm\; Sun 10am-6pm
LOCATION:Cal Expo\, Sacramento\, CA 95815 Cal Expo 1600 Exposition Blvd. Sacramento \, CA 95815 Driving Directions From the Bay Area Take Highway 80 (East) to Capitol City Freeway (Business 80) (North). Exit Exposition Blvd. From Stockton Take Highway 5 (North) to Highway 50 (East) or Highway 99 (North). Travel Capitol City Freeway (Business 80) (North). Exit Exposition Blvd. From Tahoe Area Northshore\, take Highway 80 (West) to Capitol City Freeway (Business 80) (South). Exit Exposition Blvd. Southshore\, take Highway 50 (West) to Capitol City Freeway (Business 80) (South). Exit Exposition Blvd. From Placerville Take Highway 50 (West) to Howe Ave. (North). Turn left on Hurley Way . Turn right at Ethan Way \, then left on Exposition Blvd. From Redding Take Highway 80 (South) to Highway 50 (East). Travel Capitol City Freeway (Business 80) (North). Exit Exposition Blvd.
UID:e.2957.991
SEQUENCE:3
DTSTAMP:20260422T150948Z
URL:https://www.westsacramentochamber.com/events/details/sacramento-green-expo-04-24-2010-991
END:VEVENT

END:VCALENDAR
