BEGIN:VCALENDAR
VERSION:2.0
PRODID:-//ChamberMaster//Event Calendar 2.0//EN
METHOD:PUBLISH
X-PUBLISHED-TTL:P3D
REFRESH-INTERVAL:P3D
CALSCALE:GREGORIAN
BEGIN:VEVENT
DTSTART:20100411T190000Z
DTEND:20100412T000000Z
X-MICROSOFT-CDO-ALLDAYEVENT:FALSE
SUMMARY:Sacramento Earth Day Festival 2010
DESCRIPTION:Celebrate International Earth Day at the Sacramento Earth Day Festival presented by the Environmental Council of Sacramento. The first ever Earth Day was April 22\, 1970. In celebration of this 40th anniversary\, the Sacramento Earth Day Festival will showcase local bands playing 1970 tribute songs. Experience our EcoVillage ''hubs'' offering green technology\, health and wellness\, the latest sustainability information\, real food\, and exciting interactivities.\n\nFREE Admission. RT Bus Route 51. FREE bike valet.\nFREE parking at 8th street\, between W and X streets. \nSouthside Park - 2115 6th Street\, Sacramento\, CA.  Festival entrances on T Street at 6th and 8th streets.  \nhttp://www.sacramentoearthday.net/\nhttp://www.sacrt.com/systemmap/central.stm
X-ALT-DESC;FMTTYPE=text/html:Celebrate International Earth Day at the Sacramento Earth Day Festival presented by the Environmental Council of Sacramento. The first ever Earth Day was April 22\, 1970. In celebration of this 40th anniversary\, the Sacramento Earth Day Festival will showcase local bands playing 1970 tribute songs. Experience our EcoVillage ''hubs'' offering green technology\, health and wellness\, the latest sustainability information\, real food\, and exciting interactivities.\n\nFREE Admission. RT Bus Route 51. FREE bike valet.\nFREE parking at 8th street\, between W and X streets. \nSouthside Park - 2115 6th Street\, Sacramento\, CA.  Festival entrances on T Street at 6th and 8th streets.  \nhttp://www.sacramentoearthday.net/\nhttp://www.sacrt.com/systemmap/central.stm
LOCATION:Southside Park\, Sacramento\, Ca 95818 Southside Park - 2115 6th Street\, Sacramento\, CA. Festival entrances on T Street at 6th and 8th streets.
UID:e.2957.969
SEQUENCE:3
DTSTAMP:20260422T151129Z
URL:https://www.westsacramentochamber.com/events/details/sacramento-earth-day-festival-2010-969
END:VEVENT

END:VCALENDAR
