BEGIN:VCALENDAR
VERSION:2.0
PRODID:-//ChamberMaster//Event Calendar 2.0//EN
METHOD:PUBLISH
X-PUBLISHED-TTL:P3D
REFRESH-INTERVAL:P3D
CALSCALE:GREGORIAN
BEGIN:VEVENT
DTSTART:20100527T170000Z
DTEND:20100527T170000Z
X-MICROSOFT-CDO-ALLDAYEVENT:FALSE
SUMMARY:Sacramento County Fair
DESCRIPTION:Take a Walk on the Wild Side" at the Sacramento County Fair! In 2010 we are planning a safari and jungle inspired take on a traditional county fair! What do you get when you cross a monkey\, a cow and cotton candy? You'll have to wait and see! It won't cost you much to check it out!\n\nTimes:\nThurs & Fri Noon-10pm\nSat & Sun 10am-10pm\nMon (Memorial Day) 10am-7pm\n\nTickets: \nKids (0-12) & Seniors (62+) FREE \nAdults (13-61) $3\nParking $10
X-ALT-DESC;FMTTYPE=text/html:Take a Walk on the Wild Side" at the Sacramento County Fair! In 2010 we are planning a safari and jungle inspired take on a traditional county fair! What do you get when you cross a monkey\, a cow and cotton candy? You'll have to wait and see! It won't cost you much to check it out!\n\nTimes:\nThurs & Fri Noon-10pm\nSat & Sun 10am-10pm\nMon (Memorial Day) 10am-7pm\n\nTickets: \nKids (0-12) & Seniors (62+) FREE \nAdults (13-61) $3\nParking $10\n
LOCATION:Cal Expo\, Sacramento\, CA 95815 Cal Expo 1600 Exposition Blvd. Sacramento \, CA 95815 Driving Directions From the Bay Area Take Highway 80 (East) to Capitol City Freeway (Business 80) (North). Exit Exposition Blvd. From Stockton Take Highway 5 (North) to Highway 50 (East) or Highway 99 (North). Travel Capitol City Freeway (Business 80) (North). Exit Exposition Blvd. From Tahoe Area Northshore\, take Highway 80 (West) to Capitol City Freeway (Business 80) (South). Exit Exposition Blvd. Southshore\, take Highway 50 (West) to Capitol City Freeway (Business 80) (South). Exit Exposition Blvd. From Placerville Take Highway 50 (West) to Howe Ave. (North). Turn left on Hurley Way . Turn right at Ethan Way \, then left on Exposition Blvd. From Redding Take Highway 80 (South) to Highway 50 (East). Travel Capitol City Freeway (Business 80) (North). Exit Exposition Blvd.
UID:e.2957.984
SEQUENCE:3
DTSTAMP:20260422T133743Z
URL:https://www.westsacramentochamber.com/events/details/sacramento-county-fair-984
END:VEVENT

END:VCALENDAR
