BEGIN:VCALENDAR
VERSION:2.0
PRODID:-//ChamberMaster//Event Calendar 2.0//EN
METHOD:PUBLISH
X-PUBLISHED-TTL:P3D
REFRESH-INTERVAL:P3D
CALSCALE:GREGORIAN
BEGIN:VEVENT
DTSTART:20111213T160000Z
DTEND:20111213T173000Z
X-MICROSOFT-CDO-ALLDAYEVENT:FALSE
SUMMARY:Sacramento Business Journal presents... Connectionopolis!
DESCRIPTION:The Business Journal is proud to present their first tour of El Dorado\, Placer\, Sacramento and Yolo counties. Want to get connected with the best networking opportunities\, social media trends and business content? Register at bizjournalevents.com and find how out upon attendance.
X-ALT-DESC;FMTTYPE=text/html:The Business Journal is proud to present their first tour of El Dorado\, Placer\, Sacramento and Yolo counties. Want to get connected with the best networking opportunities\, social media trends and business content? Register at bizjournalevents.com and find how out upon attendance. 
LOCATION:1250 Halyard Dr.\, West Sacramento\, CA 95691 WEST SACRAMENTO 12/13\, 8:00-9:30am Ramada Inn - 1250 Halyard Dr.
UID:e.2957.1087
SEQUENCE:3
DTSTAMP:20260422T085826Z
URL:https://www.westsacramentochamber.com/events/details/sacramento-business-journal-presents-connectionopolis-1087
END:VEVENT

END:VCALENDAR
