BEGIN:VCALENDAR
VERSION:2.0
PRODID:-//ChamberMaster//Event Calendar 2.0//EN
METHOD:PUBLISH
X-PUBLISHED-TTL:P3D
REFRESH-INTERVAL:P3D
CALSCALE:GREGORIAN
BEGIN:VEVENT
DTSTART:20140515T180000Z
DTEND:20140515T220000Z
X-MICROSOFT-CDO-ALLDAYEVENT:FALSE
SUMMARY:River Walk Business Expo - Tradeshow
DESCRIPTION:Exclusive to West Sacramento Businesses and Chamber Members!\n\nThis event is FREE to the public. Come and meet local West Sacramento businesses!\n\nInterested in becoming a vendor? Take advantage of this unique opportunity to showcase your business to the community of West Sacramento! Limited booth space available. Contact 916-371-7042 for more information or to sign up for a booth.
X-ALT-DESC;FMTTYPE=text/html:<HTML><HEAD><TITLE></TITLE></HEAD>\n<BODY>Exclusive to West Sacramento Businesses and Chamber Members!<BR><BR>This event is FREE to the public. Come and meet local West Sacramento businesses!<BR><BR>Interested in becoming a vendor? Take advantage of this unique opportunity to showcase your business to the community of West Sacramento! Limited booth space available. Contact 916-371-7042 for more information or to sign up for a booth. </BODY></HTML>
LOCATION:The River Walk Promenade\, West Sacramento\, CA 95691
UID:e.2957.1284
SEQUENCE:3
DTSTAMP:20260423T121320Z
URL:https://www.westsacramentochamber.com/events/details/river-walk-business-expo-tradeshow-05-15-2014-1284
END:VEVENT

END:VCALENDAR
