BEGIN:VCALENDAR
VERSION:2.0
PRODID:-//ChamberMaster//Event Calendar 2.0//EN
METHOD:PUBLISH
X-PUBLISHED-TTL:P3D
REFRESH-INTERVAL:P3D
CALSCALE:GREGORIAN
BEGIN:VEVENT
DTSTART:20110524T220000Z
DTEND:20110525T010000Z
X-MICROSOFT-CDO-ALLDAYEVENT:FALSE
SUMMARY:River Walk Business Expo
DESCRIPTION:Exclusive to West Sacramento Businesses and Chamber Members!\n\n    \n\n    This event is FREE to the public. Come and meet local West Sacramento businesses!\n\n    \n\n    Interested in becoming a vendor? Take advantage of this unique opportunity to showcase your business to the community of West Sacramento! Limited booth space available. Contact 916-371-7042 for more information or to sign up for a booth.
X-ALT-DESC;FMTTYPE=text/html:<html>\n<head>\n</head>\n<body>\n    Exclusive to West Sacramento Businesses and Chamber Members!<br />\n    <br />\n    This event is FREE to the public. Come and meet local West Sacramento businesses!<br />\n    <br />\n    Interested in becoming a vendor? Take advantage of this unique opportunity to showcase your business to the community of West Sacramento! Limited booth space available. Contact 916-371-7042 for more information or to sign up for a booth.\n</body>\n</html>\n
LOCATION:The River Walk Promenade\, West Sacramento\, CA 95691
UID:e.2957.1036
SEQUENCE:3
DTSTAMP:20260423T134036Z
URL:https://www.westsacramentochamber.com/events/details/river-walk-business-expo-05-24-2011-1036
END:VEVENT

END:VCALENDAR
