BEGIN:VCALENDAR
VERSION:2.0
PRODID:-//ChamberMaster//Event Calendar 2.0//EN
METHOD:PUBLISH
X-PUBLISHED-TTL:P3D
REFRESH-INTERVAL:P3D
CALSCALE:GREGORIAN
BEGIN:VEVENT
DTSTART:20100520T220000Z
DTEND:20100521T010000Z
X-MICROSOFT-CDO-ALLDAYEVENT:FALSE
SUMMARY:River Walk Business Expo
DESCRIPTION:Exclusive to West Sacramento Businesses and Chamber Members!\n\n\n\nThis event is FREE to the public. Come and meet local West Sacramento businesses!\n\n\n\n\nInterested in becoming a vendor? Take advantage of this unique opportunity to showcase your business to the community of West Sacramento! Limited booth space available.  Contact 916-271-7042 for more information or to sign up for a booth.
X-ALT-DESC;FMTTYPE=text/html:Exclusive to West Sacramento Businesses and Chamber Members!<br><br>\n\nThis event is FREE to the public. Come and meet local West Sacramento businesses!<br><br>\n\n\nInterested in becoming a vendor? Take advantage of this unique opportunity to showcase your business to the community of West Sacramento! Limited booth space available.  Contact 916-271-7042 for more information or to sign up for a booth.
LOCATION:The River Walk Promenade\, West Sacramento\, CA 95691
UID:e.2957.996
SEQUENCE:3
DTSTAMP:20260422T164943Z
URL:https://www.westsacramentochamber.com/events/details/river-walk-business-expo-05-20-2010-996
END:VEVENT

END:VCALENDAR
