BEGIN:VCALENDAR
VERSION:2.0
PRODID:-//ChamberMaster//Event Calendar 2.0//EN
METHOD:PUBLISH
X-PUBLISHED-TTL:P3D
REFRESH-INTERVAL:P3D
CALSCALE:GREGORIAN
BEGIN:VEVENT
DTSTART:20130921T230000Z
DTEND:20130922T030000Z
X-MICROSOFT-CDO-ALLDAYEVENT:FALSE
SUMMARY:River City Rowing Club's 3rd Annual - BBQ. BOATS. BREW.
DESCRIPTION:River City Rowing Club's 3rd Annual \nBBQ. BOATS. BREW.\n\nCOME...ENJOY....an incredible BBQ catered by West Sacramento's very own Broderick's Restaurant\, experience rowing firsthand (no prior experience necessary)\, featuring bottomless beer mugs ($20) with Ruhstaller beer and The Hucklebucks will be entertaining us throughout the BBQ\n\nGET YOUR TICKETS EARLY\, prices goes up at the door   \nVIP tickets are still available for a short time longer!!\n\nThere are also advertising sponsorships still available with RCRC for this year.  See the West Sacramento Chamber of Commerce Newsletter for information on how to advertise at our RCRC club and during our regattas for a whole year.\n\nWe are also supporting the West Sacramento Foundation\; we will have raffle tickets for sale the night of the event.
X-ALT-DESC;FMTTYPE=text/html:River City Rowing Club's 3rd Annual \nBBQ. BOATS. BREW.\n\nCOME...ENJOY....an incredible BBQ catered by West Sacramento's very own Broderick's Restaurant\, experience rowing firsthand (no prior experience necessary)\, featuring bottomless beer mugs ($20) with Ruhstaller beer and The Hucklebucks will be entertaining us throughout the BBQ\n\nGET YOUR TICKETS EARLY\, prices goes up at the door   \nVIP tickets are still available for a short time longer!!\n\nThere are also advertising sponsorships still available with RCRC for this year.  See the West Sacramento Chamber of Commerce Newsletter for information on how to advertise at our RCRC club and during our regattas for a whole year.\n\nWe are also supporting the West Sacramento Foundation\; we will have raffle tickets for sale the night of the event.\n\n
LOCATION:2895 Industrial Blvd\, West Sacramento\, CA 95691 Port of West Sacramento off of Industrial Blvd\, West Sacramento
UID:e.2957.1217
SEQUENCE:3
DTSTAMP:20260423T103941Z
URL:https://www.westsacramentochamber.com/events/details/river-city-rowing-club-s-3rd-annual-bbq-boats-brew-1217
END:VEVENT

END:VCALENDAR
