BEGIN:VCALENDAR
VERSION:2.0
PRODID:-//ChamberMaster//Event Calendar 2.0//EN
METHOD:PUBLISH
X-PUBLISHED-TTL:P3D
REFRESH-INTERVAL:P3D
CALSCALE:GREGORIAN
BEGIN:VEVENT
DTSTART:20240613T220000Z
DTEND:20240613T223000Z
X-MICROSOFT-CDO-ALLDAYEVENT:FALSE
SUMMARY:Ribbon Cutting Ceremony
DESCRIPTION:Please join us for a ribbon cutting ceremony for Washington Commons Cohousing on Thursday\, June 13th at 3:00pm.
X-ALT-DESC;FMTTYPE=text/html:Please join us for a ribbon cutting ceremony for Washington Commons Cohousing on Thursday\, June 13th at 3:00pm.&nbsp\;<br />\n&nbsp\;
LOCATION:330 G St. West Sacramento\, CA 95605
UID:e.2957.4240
SEQUENCE:3
DTSTAMP:20260424T104956Z
URL:https://www.westsacramentochamber.com/events/details/ribbon-cutting-ceremony-4240
END:VEVENT

END:VCALENDAR
