BEGIN:VCALENDAR
VERSION:2.0
PRODID:-//ChamberMaster//Event Calendar 2.0//EN
METHOD:PUBLISH
X-PUBLISHED-TTL:P3D
REFRESH-INTERVAL:P3D
CALSCALE:GREGORIAN
BEGIN:VEVENT
DTSTART:20240126T173000Z
DTEND:20240126T183000Z
X-MICROSOFT-CDO-ALLDAYEVENT:FALSE
SUMMARY:Ribbon Cutting Ceremony
DESCRIPTION:Please join us in celebration of our member Bryte & Broderick Community Center with a ribbon cutting ceremony on Friday\, January 26th at 9:30am.
X-ALT-DESC;FMTTYPE=text/html:<br />\nPlease join us in celebration of our member Bryte &amp\; Broderick Community Center with a ribbon cutting ceremony on Friday\, January 26th at 9:30am.&nbsp\;
LOCATION:1708 Lisbon Ave. West Sacramento\, CA 95691
UID:e.2957.4181
SEQUENCE:3
DTSTAMP:20260424T170951Z
URL:https://www.westsacramentochamber.com/events/details/ribbon-cutting-ceremony-4181
END:VEVENT

END:VCALENDAR
