BEGIN:VCALENDAR
VERSION:2.0
PRODID:-//ChamberMaster//Event Calendar 2.0//EN
METHOD:PUBLISH
X-PUBLISHED-TTL:P3D
REFRESH-INTERVAL:P3D
CALSCALE:GREGORIAN
BEGIN:VEVENT
DTSTART:20221207T200000Z
DTEND:20221207T203000Z
X-MICROSOFT-CDO-ALLDAYEVENT:FALSE
SUMMARY:Ribbon Cutting Celebration
DESCRIPTION:Ribbon Cutting Celebration - Everyone is invited to celebrate \n\n\n\nWho: sunandsoiljuice\n\nWhen: Wednesday\, December 7\, 2022\n\nWhere: 3650 Industrial Blvd\, Suite 140\n\n            West Sacramento\, California 95691\n\nTime: 12:00pm
X-ALT-DESC;FMTTYPE=text/html:<p><span style="font-size:14px\;"><span style="font-family:arial\;"><span style="color: rgb(51\, 51\, 51)\; background-color: rgb(255\, 255\, 255)\;">Ribbon Cutting Celebration - Everyone is invited to celebrate&nbsp\;</span><br style="color: rgb(51\, 51\, 51)\; font-family: sans-serif\, Arial\, Verdana\, &quot\;Trebuchet MS&quot\;\; font-size: 13px\;" />\n<br style="color: rgb(51\, 51\, 51)\; font-family: sans-serif\, Arial\, Verdana\, &quot\;Trebuchet MS&quot\;\; font-size: 13px\;" />\n<span style="color: rgb(51\, 51\, 51)\; background-color: rgb(255\, 255\, 255)\;">Who:&nbsp\;</span><a href="https://www.sunandsoiljuice.com/">sunandsoiljuice</a><br style="color: rgb(51\, 51\, 51)\; font-family: sans-serif\, Arial\, Verdana\, &quot\;Trebuchet MS&quot\;\; font-size: 13px\;" />\n<span style="color: rgb(51\, 51\, 51)\; background-color: rgb(255\, 255\, 255)\;">When: Wednesday\, December 7\, 2022</span><br style="color: rgb(51\, 51\, 51)\; font-family: sans-serif\, Arial\, Verdana\, &quot\;Trebuchet MS&quot\;\; font-size: 13px\;" />\n<span style="color: rgb(51\, 51\, 51)\; background-color: rgb(255\, 255\, 255)\;">Where:&nbsp\;</span>3650 Industrial Blvd\, Suite 140</span><br />\n&nbsp\;&nbsp\;&nbsp\;&nbsp\;&nbsp\;&nbsp\;&nbsp\;&nbsp\;&nbsp\;&nbsp\;&nbsp\;&nbsp\;<span style="font-family:arial\;">West Sacramento\, California 95691<br style="color: rgb(51\, 51\, 51)\; font-family: sans-serif\, Arial\, Verdana\, &quot\;Trebuchet MS&quot\;\; font-size: 13px\;" />\n<span style="color: rgb(51\, 51\, 51)\; background-color: rgb(255\, 255\, 255)\;">Time: 12:00pm</span></span></span></p>\n
LOCATION:3650 Industrial Blvd\, Suite 140 West Sacramento\, California 95691
UID:e.2957.4031
SEQUENCE:3
DTSTAMP:20260425T131632Z
URL:https://www.westsacramentochamber.com/events/details/ribbon-cutting-celebration-4031
END:VEVENT

END:VCALENDAR
