BEGIN:VCALENDAR
VERSION:2.0
PRODID:-//ChamberMaster//Event Calendar 2.0//EN
METHOD:PUBLISH
X-PUBLISHED-TTL:P3D
REFRESH-INTERVAL:P3D
CALSCALE:GREGORIAN
BEGIN:VEVENT
DTSTART:20111208T210000Z
DTEND:20111209T000000Z
X-MICROSOFT-CDO-ALLDAYEVENT:FALSE
SUMMARY:Responding to RFPs (Request for Proposal)
DESCRIPTION:Cost: FREE \nDescription: After taking this class\, the business owner will:\n• Understand how to locate government RFPs\n• Understand how to review RFPs and decide whether or not           to develop a proposal\n• Know the key elements of proposal formats\n• Be able to develop a ''requirements matrix''\n• Understand how to develop a proposal team\n• Understand how to coordinate subcontractor proposals\n• Be able to define the scope of work\n• Understand the administrative tasks of non-complex and        \n   complex proposals\n• Know how to finalize the proposal\n• Know how to prepare for negotiation\n• Know how to get valuable feedback after the contract has \n   been awarded\nRegister at www.TheFTC.org or call 866.382.7822 toll-free in California
X-ALT-DESC;FMTTYPE=text/html:Cost: FREE \nDescription: After taking this class\, the business owner will:\n• Understand how to locate government RFPs\n• Understand how to review RFPs and decide whether or not           to develop a proposal\n• Know the key elements of proposal formats\n• Be able to develop a ''requirements matrix''\n• Understand how to develop a proposal team\n• Understand how to coordinate subcontractor proposals\n• Be able to define the scope of work\n• Understand the administrative tasks of non-complex and        \n   complex proposals\n• Know how to finalize the proposal\n• Know how to prepare for negotiation\n• Know how to get valuable feedback after the contract has \n   been awarded\nRegister at www.TheFTC.org or call 866.382.7822 toll-free in California
LOCATION:13626 New Airport Road\, Auburn\, CA 95602 Auburn Airport
UID:e.2957.1110
SEQUENCE:3
DTSTAMP:20260422T090818Z
URL:https://www.westsacramentochamber.com/events/details/responding-to-rfps-request-for-proposal-12-08-2011-1110
END:VEVENT

END:VCALENDAR
