BEGIN:VCALENDAR
VERSION:2.0
PRODID:-//ChamberMaster//Event Calendar 2.0//EN
METHOD:PUBLISH
X-PUBLISHED-TTL:P3D
REFRESH-INTERVAL:P3D
CALSCALE:GREGORIAN
BEGIN:VEVENT
DTSTART:20110310T170000Z
DTEND:20110310T200000Z
X-MICROSOFT-CDO-ALLDAYEVENT:FALSE
SUMMARY:Responding to RFPs (Request for Proposal)
DESCRIPTION:Cost: FREE \nDescription: After taking this class\, the business owner will:\n• Understand how to locate government RFPs\n• Understand how to review RFPs and decide whether or not           to develop a proposal\n• Know the key elements of proposal formats\n• Be able to develop a ''requirements matrix''\n• Understand how to develop a proposal team\n• Understand how to coordinate subcontractor proposals\n• Be able to define the scope of work\n• Understand the administrative tasks of non-complex and        \n   complex proposals\n• Know how to finalize the proposal\n• Know how to prepare for negotiation\n• Know how to get valuable feedback after the contract has \n   been awarded\n\nRegister at www.theftc.org or call 866.382.7822
X-ALT-DESC;FMTTYPE=text/html:Cost: FREE \nDescription: After taking this class\, the business owner will:\n• Understand how to locate government RFPs\n• Understand how to review RFPs and decide whether or not           to develop a proposal\n• Know the key elements of proposal formats\n• Be able to develop a ''requirements matrix''\n• Understand how to develop a proposal team\n• Understand how to coordinate subcontractor proposals\n• Be able to define the scope of work\n• Understand the administrative tasks of non-complex and        \n   complex proposals\n• Know how to finalize the proposal\n• Know how to prepare for negotiation\n• Know how to get valuable feedback after the contract has \n   been awarded\n\nRegister at www.theftc.org or call 866.382.7822
LOCATION:169 Highway 50\, Stateline\, NV 89449 Lake Tahoe South Shore Chamber of Commerce 169 Highway 50 Stateline\, NV
UID:e.2957.1062
SEQUENCE:3
DTSTAMP:20260422T212148Z
URL:https://www.westsacramentochamber.com/events/details/responding-to-rfps-request-for-proposal-03-10-2011-1062
END:VEVENT

END:VCALENDAR
