BEGIN:VCALENDAR
VERSION:2.0
PRODID:-//ChamberMaster//Event Calendar 2.0//EN
METHOD:PUBLISH
X-PUBLISHED-TTL:P3D
REFRESH-INTERVAL:P3D
CALSCALE:GREGORIAN
BEGIN:VEVENT
DTSTART:20110421T160000Z
DTEND:20110421T190000Z
X-MICROSOFT-CDO-ALLDAYEVENT:FALSE
SUMMARY:Responding to Invitation For Bid (IFB)
DESCRIPTION:Cost: FREE \nDescription:\nThis class will cover:\n•  Understanding the bid package\n•  What are the key elements of bid formats\n•  Identifying pre-bid conference requirements\n•  Understanding insurance\, bonding\, and wage   determinations\n\nRegister at www.theftc.org or call 866.382.7822
X-ALT-DESC;FMTTYPE=text/html:Cost: FREE \nDescription:\nThis class will cover:\n•  Understanding the bid package\n•  What are the key elements of bid formats\n•  Identifying pre-bid conference requirements\n•  Understanding insurance\, bonding\, and wage   determinations\n\nRegister at www.theftc.org or call 866.382.7822
LOCATION:4600 Roseville Road\, Ste 100\, North Highlands\, CA 95660 The Federal Technology Center\, 4600 Roseville Road\, Ste 100\, North Highlands\, CA 95660
UID:e.2957.1060
SEQUENCE:3
DTSTAMP:20260423T121045Z
URL:https://www.westsacramentochamber.com/events/details/responding-to-invitation-for-bid-ifb-1060
END:VEVENT

END:VCALENDAR
