BEGIN:VCALENDAR
VERSION:2.0
PRODID:-//ChamberMaster//Event Calendar 2.0//EN
METHOD:PUBLISH
X-PUBLISHED-TTL:P3D
REFRESH-INTERVAL:P3D
CALSCALE:GREGORIAN
BEGIN:VEVENT
DTSTART:20110920T160000Z
DTEND:20110920T190000Z
X-MICROSOFT-CDO-ALLDAYEVENT:FALSE
SUMMARY:Responding to an Invitation For Bid (IFB)
DESCRIPTION:Cost: FREE \nDescription:\n This class will cover:\n•  Understanding the bid package\n•  What are the key elements of bid formats\n•  Identifying pre-bid conference requirements\n•  Understanding insurance\, bonding\, and wage   determinations\nRegister at www.TheFTC.org or call 866.382.7822
X-ALT-DESC;FMTTYPE=text/html:Cost: FREE \nDescription:\n This class will cover:\n•  Understanding the bid package\n•  What are the key elements of bid formats\n•  Identifying pre-bid conference requirements\n•  Understanding insurance\, bonding\, and wage   determinations\nRegister at www.TheFTC.org or call 866.382.7822
LOCATION:4990 Stockton Boulevard\, Sacramento\, CA 95820 Stockton Boulevard Business Information Center
UID:e.2957.1096
SEQUENCE:3
DTSTAMP:20260423T085917Z
URL:https://www.westsacramentochamber.com/events/details/responding-to-an-invitation-for-bid-ifb-1096
END:VEVENT

END:VCALENDAR
