BEGIN:VCALENDAR
VERSION:2.0
PRODID:-//ChamberMaster//Event Calendar 2.0//EN
METHOD:PUBLISH
X-PUBLISHED-TTL:P3D
REFRESH-INTERVAL:P3D
CALSCALE:GREGORIAN
BEGIN:VEVENT
DTSTART:20140619T150000Z
DTEND:20140619T170000Z
X-MICROSOFT-CDO-ALLDAYEVENT:FALSE
SUMMARY:Regional Development Roseville
DESCRIPTION:This panel discussion is the first in a series of events focusing on regional development in our area. Hear from leaders in Roseville about the current state of city and its plans for the future. Tickets are $30
X-ALT-DESC;FMTTYPE=text/html:This panel discussion is the first in a series of events focusing on regional development in our area. Hear from leaders in Roseville about the current state of city and its plans for the future. Tickets are $30
LOCATION:Landmark Center\, Roseville\, CA 95661 Landmark Center\, 400 Sunrise Ave Roseville CA 95661
UID:e.2957.1323
SEQUENCE:3
DTSTAMP:20260423T103743Z
URL:https://www.westsacramentochamber.com/events/details/regional-development-roseville-1323
END:VEVENT

END:VCALENDAR
