BEGIN:VCALENDAR
VERSION:2.0
PRODID:-//ChamberMaster//Event Calendar 2.0//EN
METHOD:PUBLISH
X-PUBLISHED-TTL:P3D
REFRESH-INTERVAL:P3D
CALSCALE:GREGORIAN
BEGIN:VEVENT
DTSTART:20081201T080000Z
DTEND:20081201T080000Z
X-MICROSOFT-CDO-ALLDAYEVENT:FALSE
SUMMARY:Raising for Robynn - West Sac Cancer Patient
DESCRIPTION:Please help Robynn and her family share a holiday season they so genuinely deserve and need. Your order will give Robynn more precious time with her family with proceeds directly supporting the Goodell's in their brave crusade. Please keep track of Robynn's heroic battle with this devastating disease on her blog: www.Robynnsbattle.blogspot.com
X-ALT-DESC;FMTTYPE=text/html:<font face="Arial" size="2">Please help&nbsp\;Robynn and her family share a holiday season they so genuinely deserve and need. Your order will give Robynn more precious time with her family with proceeds directly supporting the Goodell's in their brave crusade. Please keep track of Robynn's heroic battle with this devastating disease on her blog: </font><a href="http://www.robynnsbattle.blogspot.com"><font face="Arial" size="2">www.Robynnsbattle.blogspot.com</font></a><a href="http://www.robynnsbattle.blogspot.com"></a>
LOCATION:3745 Henshaw Rd\, West Sacramento\, CA 95691 This is a month-long event to raise money. Products can be ordered online (http://www.marykay.com/dkillian) put "ROBYNN" in the comment section. Phone orders and e-mail orders are also accepted. Visa/MC accepted.
UID:e.2957.772
SEQUENCE:3
DTSTAMP:20260425T222101Z
URL:https://www.westsacramentochamber.com/events/details/raising-for-robynn-west-sac-cancer-patient-772
END:VEVENT

END:VCALENDAR
