BEGIN:VCALENDAR
VERSION:2.0
PRODID:-//ChamberMaster//Event Calendar 2.0//EN
METHOD:PUBLISH
X-PUBLISHED-TTL:P3D
REFRESH-INTERVAL:P3D
CALSCALE:GREGORIAN
BEGIN:VEVENT
DTSTART:20140829T000000Z
DTEND:20140829T020000Z
X-MICROSOFT-CDO-ALLDAYEVENT:FALSE
SUMMARY:Rain Barrel DIY Kits @ The West Sacramento Farmers Market
DESCRIPTION:RAIN BARRELS   THE ULTIMATE WATER-SAVERS!Did you know? With every 1 inch of rain on 1\,000 square feet of roof\,\nyou can collect around 600 gallons! That's a lot of water. And it's a \nreally good way to provide clean\, fresh water for your landscape. And \nhere's a little secret. Plants LOVE rainwater. It's soft and gently \nacidic\, and helps plants grow stronger and faster. After all\, doesn't Mother\nNature water her plants with rainwater?Check out this video to get the general idea. https://www.youtube.com/watch?v=jg0iwbkYq3Q\n$35 includes barrel and all hardware needed to turn your rain gutter \ndownspout into a huge money saver!ONLY 2 LEFT! PLEASE PURCHASE AT THE FARMERS MARKET \nWE ACCEPT CREDIT CARDS ON SITE.\n\nPresented by Mike Vilhauer of the Master Gardeners.\n\nSponsored by Nor-Cal Beverage and The West Sacramento Chamber of Commerce.
X-ALT-DESC;FMTTYPE=text/html:<h3><span style="font-family:Arial\,Helvetica\,sans-serif\;font-size:small\;"><strong>RAIN BARRELS &ndash\; THE ULTIMATE WATER-SAVERS!</strong></span></h3><p><span style="font-family:Arial\,Helvetica\,sans-serif\;font-size:small\;">Did you know? With every 1 inch of rain on 1\,000 square feet of roof\,</span><br /><span style="font-family:Arial\,Helvetica\,sans-serif\;font-size:small\;">you can collect around 600 gallons! That&rsquo\;s a lot of water. And it&rsquo\;s a </span><br /><span style="font-family:Arial\,Helvetica\,sans-serif\;font-size:small\;">really good way to provide clean\, fresh water for your landscape. And </span><br /><span style="font-family:Arial\,Helvetica\,sans-serif\;font-size:small\;">here&rsquo\;s a little secret. Plants LOVE rainwater. It&rsquo\;s soft and gently </span><br /><span style="font-family:Arial\,Helvetica\,sans-serif\;font-size:small\;">acidic\, and helps plants grow stronger and faster. After all\, doesn&rsquo\;t Mother</span><br /><span style="font-family:Arial\,Helvetica\,sans-serif\;font-size:small\;">Nature water her plants with rainwater?</span></p><p><span style="font-family:Arial\,Helvetica\,sans-serif\;">Check out this video to get the general idea. </span><a href="https://www.youtube.com/watch?v=jg0iwbkYq3Q"><span style="font-family:Arial\,Helvetica\,sans-serif\;">https://www.youtube.com/watch?v=jg0iwbkYq3Q</span></a><span style="font-family:Arial\,Helvetica\,sans-serif\;font-size:small\;"><br /></span></p><p></p><p><span style="font-family:Arial\,Helvetica\,sans-serif\;font-size:medium\;"><strong></strong></span></p><p><span style="font-family:Arial\,Helvetica\,sans-serif\;font-size:medium\;"><span style="font-family:Arial\,Helvetica\,sans-serif\;font-size:medium\;"><span style="font-family:Arial\,Helvetica\,sans-serif\;font-size:small\;">$35 includes barrel and all hardware needed to turn your rain gutter </span><br /><span style="font-family:Arial\,Helvetica\,sans-serif\;font-size:small\;">downspout </span></span><span style="font-family:Arial\,Helvetica\,sans-serif\;font-size:small\;">into a huge money saver!</span></span></p><p><span style="font-family:Arial\,Helvetica\,sans-serif\;font-size:medium\;"><strong></strong></span></p><p><span style="color:#cc0000\;font-family:Arial\,Helvetica\,sans-serif\;font-size:medium\;"><strong>ONLY 2 LEFT! PLEASE PURCHASE AT THE FARMERS MARKET <br />WE ACCEPT CREDIT CARDS ON SITE.<br /></strong></span></p><p><span style="font-family:Arial\,Helvetica\,sans-serif\;font-size:medium\;"><strong><br /><span style="font-family:Arial\,Helvetica\,sans-serif\;"></span></strong></span></p><p><span style="font-family:Arial\,Helvetica\,sans-serif\;font-size:small\;"></span></p><p></p><p><span style="font-family:Arial\,Helvetica\,sans-serif\;font-size:small\;"><strong>Presented by Mike Vilhauer of the Master Gardeners.</strong><br /><strong><br /><span style="font-family:Arial\,Helvetica\,sans-serif\;">Sponsored by Nor-Cal Beverage and The West Sacramento Chamber of Commerce</span></strong></span><span style="font-family:Arial\,Helvetica\,sans-serif\;font-size:medium\;"><strong>.</strong></span></p>
LOCATION:West Sacramento Farmers Market 1110 West Capitol Ave\, West Sacramento \, CA 95691
UID:e.2957.1261
SEQUENCE:3
DTSTAMP:20260423T090426Z
URL:https://www.westsacramentochamber.com/events/details/rain-barrel-diy-kits-the-west-sacramento-farmers-market-1261
END:VEVENT

END:VCALENDAR
