BEGIN:VCALENDAR
VERSION:2.0
PRODID:-//ChamberMaster//Event Calendar 2.0//EN
METHOD:PUBLISH
X-PUBLISHED-TTL:P3D
REFRESH-INTERVAL:P3D
CALSCALE:GREGORIAN
BEGIN:VEVENT
DTSTART:20140516T190000Z
DTEND:20140516T190000Z
X-MICROSOFT-CDO-ALLDAYEVENT:FALSE
SUMMARY:Quick Quack Car Wash Ribbon Cutting
DESCRIPTION:Come join us for our for our Ribbon Cutting Celebration with Food and Free Car Washes!
X-ALT-DESC;FMTTYPE=text/html:Come join us for our for our Ribbon Cutting Celebration with Food and Free Car Washes!
LOCATION:645 Harbor Blvd\, West Sacramento\, CA 95691 Quick Quack Car Wash on Harbor Blvd.\, just North of West Capitol Blvd.
UID:e.2957.1302
SEQUENCE:3
DTSTAMP:20260423T103847Z
URL:https://www.westsacramentochamber.com/events/details/quick-quack-car-wash-ribbon-cutting-1302
END:VEVENT

END:VCALENDAR
