BEGIN:VCALENDAR
VERSION:2.0
PRODID:-//ChamberMaster//Event Calendar 2.0//EN
METHOD:PUBLISH
X-PUBLISHED-TTL:P3D
REFRESH-INTERVAL:P3D
CALSCALE:GREGORIAN
BEGIN:VEVENT
DTSTART:20081118T170000Z
DTEND:20081118T200000Z
X-MICROSOFT-CDO-ALLDAYEVENT:FALSE
SUMMARY:Project Management
DESCRIPTION:Cost: FREE \n\nDescription: Introduction to the nine elements of Project\nManagement.\n1) Integration Management\n2) Scope Management\n3) Time Management\n4) Cost Management\n5) Quality Management\n6) Human Resource Management\n7) Communication Management\n8) Risk Management\n9) Procurement Management\n\nClass limited to first six registrants.\n\nRegister online at: www.TheFTC.org
X-ALT-DESC;FMTTYPE=text/html:Cost: FREE \n\nDescription: Introduction to the nine elements of Project\nManagement.\n1) Integration Management\n2) Scope Management\n3) Time Management\n4) Cost Management\n5) Quality Management\n6) Human Resource Management\n7) Communication Management\n8) Risk Management\n9) Procurement Management\n\nClass limited to first six registrants.\n\nRegister online at: www.TheFTC.org
LOCATION:4990 Stockton Blvd.\, Sacramento\, CA 95820 Stockton Boulevard Business Information Center
UID:e.2957.721
SEQUENCE:3
DTSTAMP:20260426T034504Z
URL:https://www.westsacramentochamber.com/events/details/project-management-11-18-2008-721
END:VEVENT

END:VCALENDAR
