BEGIN:VCALENDAR
VERSION:2.0
PRODID:-//ChamberMaster//Event Calendar 2.0//EN
METHOD:PUBLISH
X-PUBLISHED-TTL:P3D
REFRESH-INTERVAL:P3D
CALSCALE:GREGORIAN
BEGIN:VEVENT
DTSTART:20110519T160000Z
DTEND:20110519T190000Z
X-MICROSOFT-CDO-ALLDAYEVENT:FALSE
SUMMARY:Project Management
DESCRIPTION:Cost: FREE \nDescription: This class will introduce you to the nine elements of project management. You will learn about: \n1) Integration Management\n2) Scope Management\n3) Time Management\n4) Cost Management\n5) Quality Management\n6) Human Resource Management\n7) Communication Management\n8) Risk Management\n9) Procurement Management\n\nRegister at www.TheFTC.org or call toll free 866.382.7822
X-ALT-DESC;FMTTYPE=text/html:Cost: FREE \nDescription: This class will introduce you to the nine elements of project management. You will learn about: \n1) Integration Management\n2) Scope Management\n3) Time Management\n4) Cost Management\n5) Quality Management\n6) Human Resource Management\n7) Communication Management\n8) Risk Management\n9) Procurement Management\n\nRegister at www.TheFTC.org or call toll free 866.382.7822\n\n
LOCATION:4600 Roseville Road\, Ste 100\, North Highlands\, CA 95660 The Federal Technology Center
UID:e.2957.1075
SEQUENCE:3
DTSTAMP:20260423T120830Z
URL:https://www.westsacramentochamber.com/events/details/project-management-05-19-2011-1075
END:VEVENT

END:VCALENDAR
