BEGIN:VCALENDAR
VERSION:2.0
PRODID:-//ChamberMaster//Event Calendar 2.0//EN
METHOD:PUBLISH
X-PUBLISHED-TTL:P3D
REFRESH-INTERVAL:P3D
CALSCALE:GREGORIAN
BEGIN:VEVENT
DTSTART;VALUE=DATE:20110723
DTEND;VALUE=DATE:20110724
TRANSP:TRANSPARENT
X-MICROSOFT-CDO-ALLDAYEVENT:TRUE
SUMMARY:Pool-A-Palooza Festival
DESCRIPTION:
X-ALT-DESC;FMTTYPE=text/html:
LOCATION:2801 Jefferson Boulevard\, West Sacramento\, Ca 95691
UID:e.2957.1040
SEQUENCE:3
DTSTAMP:20260423T121201Z
URL:https://www.westsacramentochamber.com/events/details/pool-a-palooza-festival-1040
END:VEVENT

END:VCALENDAR
