BEGIN:VCALENDAR
VERSION:2.0
PRODID:-//ChamberMaster//Event Calendar 2.0//EN
METHOD:PUBLISH
X-PUBLISHED-TTL:P3D
REFRESH-INTERVAL:P3D
CALSCALE:GREGORIAN
BEGIN:VEVENT
DTSTART:20110416T190000Z
DTEND:20110416T230000Z
X-MICROSOFT-CDO-ALLDAYEVENT:FALSE
SUMMARY:Placer County Earth Day Festival
DESCRIPTION:Come visit the Mutual of Omaha booth and see what services we have to offer you. You can also have your picture taken with an exotic animal.
X-ALT-DESC;FMTTYPE=text/html:Come visit the Mutual of Omaha booth and see what services we have to offer you. You can also have your picture taken with an exotic animal. 
LOCATION:1501 Pleasant Grove Blvd.\, Roseville\, CA 95747 Mahany Regional Park 1501 Pleasant Grove Blvd. Roseville\, CA 95747
UID:e.2957.1064
SEQUENCE:3
DTSTAMP:20260423T121216Z
URL:https://www.westsacramentochamber.com/events/details/placer-county-earth-day-festival-1064
END:VEVENT

END:VCALENDAR
