BEGIN:VCALENDAR
VERSION:2.0
PRODID:-//ChamberMaster//Event Calendar 2.0//EN
METHOD:PUBLISH
X-PUBLISHED-TTL:P3D
REFRESH-INTERVAL:P3D
CALSCALE:GREGORIAN
BEGIN:VEVENT
DTSTART:20091001T233000Z
DTEND:20091002T023000Z
X-MICROSOFT-CDO-ALLDAYEVENT:FALSE
SUMMARY:Oktoberfest - Hosted by Morrow Surveying
DESCRIPTION:
X-ALT-DESC;FMTTYPE=text/html:
LOCATION:1450 Harbor Blvd.\, West Sacramento\, CA 95691
UID:e.2957.895
SEQUENCE:3
DTSTAMP:20260423T225938Z
URL:https://www.westsacramentochamber.com/events/details/oktoberfest-hosted-by-morrow-surveying-895
END:VEVENT

END:VCALENDAR
