BEGIN:VCALENDAR
VERSION:2.0
PRODID:-//ChamberMaster//Event Calendar 2.0//EN
METHOD:PUBLISH
X-PUBLISHED-TTL:P3D
REFRESH-INTERVAL:P3D
CALSCALE:GREGORIAN
BEGIN:VEVENT
DTSTART:20110517T160000Z
DTEND:20110517T190000Z
X-MICROSOFT-CDO-ALLDAYEVENT:FALSE
SUMMARY:Navigating the FAR (Federal Acquisition Regulation)
DESCRIPTION:Cost: FREE \nDescription: \nThis class will cover:\n• What are clauses and provisions\n• What are clause prescriptions\n• How to use FAR supplements and tools\n• Practical exercises \nRegister at www.TheFTC.org or call toll free 866.382.7822
X-ALT-DESC;FMTTYPE=text/html:Cost: FREE \nDescription: \nThis class will cover:\n• What are clauses and provisions\n• What are clause prescriptions\n• How to use FAR supplements and tools\n• Practical exercises \nRegister at www.TheFTC.org or call toll free 866.382.7822\n\n
LOCATION:4600 Roseville Road\, Ste 100\, North Highlands\, CA 95660 The Federal Technology Center
UID:e.2957.1076
SEQUENCE:3
DTSTAMP:20260423T121241Z
URL:https://www.westsacramentochamber.com/events/details/navigating-the-far-federal-acquisition-regulation-05-17-2011-1076
END:VEVENT

END:VCALENDAR
