BEGIN:VCALENDAR
VERSION:2.0
PRODID:-//ChamberMaster//Event Calendar 2.0//EN
METHOD:PUBLISH
X-PUBLISHED-TTL:P3D
REFRESH-INTERVAL:P3D
CALSCALE:GREGORIAN
BEGIN:VEVENT
DTSTART:20110426T160000Z
DTEND:20110426T190000Z
X-MICROSOFT-CDO-ALLDAYEVENT:FALSE
SUMMARY:Navigating the FAR (Federal Acquisition Regulation)
DESCRIPTION:Cost: FREE \nDescription: \nThis class will cover:\n• What are clauses and provisions\n• What are clause prescriptions\n• How to use FAR supplements and tools\n• Practical exercises \n\nRegister at www.TheFTC.org or call toll-free 866.382.7822
X-ALT-DESC;FMTTYPE=text/html:Cost: FREE \nDescription: \nThis class will cover:\n• What are clauses and provisions\n• What are clause prescriptions\n• How to use FAR supplements and tools\n• Practical exercises \n\nRegister at www.TheFTC.org or call toll-free 866.382.7822
LOCATION:Citrus Heights Career Center\, Citrus Heights\, CA 95610 Citrus Heights Career Center 7011 Sylvan Rd Citrus Heights\, CA 95610
UID:e.2957.1066
SEQUENCE:3
DTSTAMP:20260423T121241Z
URL:https://www.westsacramentochamber.com/events/details/navigating-the-far-federal-acquisition-regulation-04-26-2011-1066
END:VEVENT

END:VCALENDAR
