BEGIN:VCALENDAR
VERSION:2.0
PRODID:-//ChamberMaster//Event Calendar 2.0//EN
METHOD:PUBLISH
X-PUBLISHED-TTL:P3D
REFRESH-INTERVAL:P3D
CALSCALE:GREGORIAN
BEGIN:VEVENT
DTSTART:20120922T170000Z
DTEND:20120922T190000Z
X-MICROSOFT-CDO-ALLDAYEVENT:FALSE
SUMMARY:National University Open House
DESCRIPTION:ADVANCE YOUR EDUCATION – ADVANCE YOUR CAREER\nReceive detailed information about our many programs\, and find the answers to all of your education questions in one place. At the open house you can speak with faculty and admissions staff\, tour our campus\, and learn about financial aid options and scholarships. Our campus offers programs in business and management\; education\; engineering\, technology and media\; health and human services\; and liberal arts and sciences.
X-ALT-DESC;FMTTYPE=text/html:ADVANCE YOUR EDUCATION – ADVANCE YOUR CAREER\nReceive detailed information about our many programs\, and find the answers to all of your education questions in one place. At the open house you can speak with faculty and admissions staff\, tour our campus\, and learn about financial aid options and scholarships. Our campus offers programs in business and management\; education\; engineering\, technology and media\; health and human services\; and liberal arts and sciences. \n
LOCATION:10901 Gold Center Drive\, Rancho Cordova\, Ca 95670 Exit Zinfandel Drive from Highway 50 East - continue straight - this becomes Gold Center Drive
UID:e.2957.1157
SEQUENCE:3
DTSTAMP:20260422T135353Z
URL:https://www.westsacramentochamber.com/events/details/national-university-open-house-09-22-2012-1157
END:VEVENT

END:VCALENDAR
