BEGIN:VCALENDAR
VERSION:2.0
PRODID:-//ChamberMaster//Event Calendar 2.0//EN
METHOD:PUBLISH
X-PUBLISHED-TTL:P3D
REFRESH-INTERVAL:P3D
CALSCALE:GREGORIAN
BEGIN:VEVENT
DTSTART:20130826T170000Z
DTEND:20130826T170000Z
X-MICROSOFT-CDO-ALLDAYEVENT:FALSE
SUMMARY:National University Open House
DESCRIPTION:Open House Saturday \, SEPTEMBER 21\, at 10 a.m.\n\nReceive detailed information about our many programs\, and find the answers to all of your education questions in one place.\n\nAt the open house\, you can:\n• Speak with faculty and admissions staff\n• Tour our campus in Sacramento\n• Learn about financial aid options and scholarships\n\nOur campus in Sacramento offers programs in:\n• Business and Management\n• Education\n• Engineering\, Technology\, and Media\n• Extended Learning\n• Health and Human Services\n• Liberal Arts and Sciences\n• Professional Studies
X-ALT-DESC;FMTTYPE=text/html:Open House Saturday \, SEPTEMBER 21\, at 10 a.m.\n\nReceive detailed information about our many programs\, and find the answers to all of your education questions in one place.\n\nAt the open house\, you can:\n• Speak with faculty and admissions staff\n• Tour our campus in Sacramento\n• Learn about financial aid options and scholarships\n\nOur campus in Sacramento offers programs in:\n• Business and Management\n• Education\n• Engineering\, Technology\, and Media\n• Extended Learning\n• Health and Human Services\n• Liberal Arts and Sciences\n• Professional Studies
LOCATION:10901 Gold Center Dr.\, Rancho Cordova\, CA 95670 National University Sacramento Campus 10901 Gold Center Drive Rancho Cordova\, CA 95670
UID:e.2957.1211
SEQUENCE:3
DTSTAMP:20260423T121117Z
URL:https://www.westsacramentochamber.com/events/details/national-university-open-house-08-26-2013-1211
END:VEVENT

END:VCALENDAR
