BEGIN:VCALENDAR
VERSION:2.0
PRODID:-//ChamberMaster//Event Calendar 2.0//EN
METHOD:PUBLISH
X-PUBLISHED-TTL:P3D
REFRESH-INTERVAL:P3D
CALSCALE:GREGORIAN
BEGIN:VEVENT
DTSTART:20120530T230000Z
DTEND:20120531T010000Z
X-MICROSOFT-CDO-ALLDAYEVENT:FALSE
SUMMARY:National University Grand Opening Celebration
DESCRIPTION:National University invites you to a reception celebrating the opening of the Rancho Cordova Campus. Complimentary refreshments and hors d'oeuvres will be served.
X-ALT-DESC;FMTTYPE=text/html:National University invites you to a reception celebrating the opening of the Rancho Cordova Campus. Complimentary refreshments and hors d'oeuvres will be served.
LOCATION:10901 Gold Center Drive\, Rancho Cordova\, CA 95670 Just off Zinfandel and Highway 50 East
UID:e.2957.1149
SEQUENCE:3
DTSTAMP:20260422T215356Z
URL:https://www.westsacramentochamber.com/events/details/national-university-grand-opening-celebration-1149
END:VEVENT

END:VCALENDAR
