BEGIN:VCALENDAR
VERSION:2.0
PRODID:-//ChamberMaster//Event Calendar 2.0//EN
METHOD:PUBLISH
X-PUBLISHED-TTL:P3D
REFRESH-INTERVAL:P3D
CALSCALE:GREGORIAN
BEGIN:VEVENT
DTSTART:20140707T170000Z
DTEND:20140707T210000Z
X-MICROSOFT-CDO-ALLDAYEVENT:FALSE
SUMMARY:National Learn to Row Day & Community Fair
DESCRIPTION:River City Rowing Club\, located at the Port of West Sacramento presents\n\nNational Learn to Row Day\n\nSaturday\, June 7th\n10:00am – 2:00pm\n\nParticipants will learn how to use the indoor rower\, tour our boathouse and row in an 8-person boat on the water.\n\nNo Experience Necessary\nAdmission is Free to the Public \n\n\nWe will also be hosting a COMMUNTIY FAIR for local west Sacramento Businesses to present their services to attendees.  We have approximately 400 people come to the event each year.\n\nLimited Booth Spaces are Available.\nBooth Rental – Free\n\nPlease call 614-288-4035 or email RCRCJRCOACH@GMAIL.COM for more information or to sign up for a booth.
X-ALT-DESC;FMTTYPE=text/html:River City Rowing Club\, located at the Port of West Sacramento presents\n\nNational Learn to Row Day\n\nSaturday\, June 7th\n10:00am – 2:00pm\n\nParticipants will learn how to use the indoor rower\, tour our boathouse and row in an 8-person boat on the water.\n\nNo Experience Necessary\nAdmission is Free to the Public \n\n\nWe will also be hosting a COMMUNTIY FAIR for local west Sacramento Businesses to present their services to attendees.  We have approximately 400 people come to the event each year.\n\nLimited Booth Spaces are Available.\nBooth Rental – Free\n\nPlease call 614-288-4035 or email RCRCJRCOACH@GMAIL.COM for more information or to sign up for a booth.\n
LOCATION:3035 Industrial Blvd.\, West Sacramento\, CA 95798 Directions to River City Rowing From Sacramento and Points East : Take Capitol City Freeway/Business 80 West to West Sacramento. Take the Harbor Blvd. exit. Turn left onto Harbor Blvd.\, heading south to Port of Sacramento. Turn right onto Industrial Blvd. Drive one-quarter mile then turn left through the open yellow gate (just west of main Port entrance). Turn right on the paved road and follow the road as it winds through the port. Please note that the road is not striped and turns are sharp and abrupt. Descend to RCRC's lower gravel parking lot. RCRC boathouses are left of parking lot. Enter through the gate by the portable toilet. The main boathouse is the blue metal building. From Davis and Points West : Take I-80 East to Capitol City Freeway/Business 80. Take the Harbor Blvd. exit in West Sacramento. Continue onto Harbor Blvd.\, heading south to the Port of Sacramento. Turn right onto Industrial Blvd. Drive one-quarter mile then turn left through the open yellow gate (just west of main Port entrance). Turn right on the paved road and follow the road as it winds through the port. Please note that the road is not striped and turns are sharp and abrupt. Descend to RCRC's lower gravel parking lot. RCRC boathouses are left of parking lot. Enter through the gate by the portable toilet. The main boathouse is the blue metal building.
UID:e.2957.1300
SEQUENCE:3
DTSTAMP:20260423T103927Z
URL:https://www.westsacramentochamber.com/events/details/national-learn-to-row-day-community-fair-07-07-2014-1300
END:VEVENT

END:VCALENDAR
