BEGIN:VCALENDAR
VERSION:2.0
PRODID:-//ChamberMaster//Event Calendar 2.0//EN
METHOD:PUBLISH
X-PUBLISHED-TTL:P3D
REFRESH-INTERVAL:P3D
CALSCALE:GREGORIAN
BEGIN:VEVENT
DTSTART:20090913T200000Z
DTEND:20090914T010000Z
X-MICROSOFT-CDO-ALLDAYEVENT:FALSE
SUMMARY:Moxie Salon: Shopping Extravaganza!
DESCRIPTION:Shopping Extravaganza!\n\n\n    September 13th\, 1:00-6:00p\n\n\n    8 different vendors includiong\, Chamber members Moxie Salon\, and Jenell's Skin!
X-ALT-DESC;FMTTYPE=text/html:<p>\n    <font face="Arial Black">Shopping Extravaganza!</font>\n</p>\n<p>\n    <font face="Arial Black">September 13th\, 1:00-6:00p</font>\n</p>\n<p>\n    <font face="Arial Black">8 different vendors includiong\, Chamber members Moxie Salon\, and Jenell's Skin!</font>\n</p>
LOCATION:West Sacramento Recreation Center\, West Sacramento\, CA 95691
UID:e.2957.896
SEQUENCE:3
DTSTAMP:20260425T144748Z
URL:https://www.westsacramentochamber.com/events/details/moxie-salon-shopping-extravaganza-896
END:VEVENT

END:VCALENDAR
