BEGIN:VCALENDAR
VERSION:2.0
PRODID:-//ChamberMaster//Event Calendar 2.0//EN
METHOD:PUBLISH
X-PUBLISHED-TTL:P3D
REFRESH-INTERVAL:P3D
CALSCALE:GREGORIAN
BEGIN:VEVENT
DTSTART:20260507T180000Z
DTEND:20260507T184500Z
X-MICROSOFT-CDO-ALLDAYEVENT:FALSE
SUMMARY:Mental Health Awareness Month: How Gratitude Changes Our Money Attitude
DESCRIPTION:Money is said to be the currency of living\, but gratitude is the currency of life. Appreciating what you already have can certainly be less expensive! Join SAFE's Financial Wellness Team to learn how to practice gratitude in your financial life. \n\n \nTopics Covered\n\n\n\n	Benefits of gratitude\n	Practicing gratefulness in your current financial situation\n	Reducing impulse purchasing
X-ALT-DESC;FMTTYPE=text/html:<span style="color:rgb(74\, 74\, 74)\; font-family:outfit\,sans-serif\; font-size:16px">Money is said to be the currency of living\, but gratitude is the currency of life. Appreciating what you already have can certainly be less expensive! Join SAFE&rsquo\;s Financial Wellness Team to learn how to practice gratitude in your financial life.&nbsp\;</span><br />\n&nbsp\;\n<h4>Topics Covered</h4>\n\n<div>\n<ul>\n	<li>Benefits of gratitude</li>\n	<li>Practicing gratefulness in your current financial situation</li>\n	<li>Reducing impulse purchasing</li>\n</ul>\n</div>\n
LOCATION:FREE Virtual Webinar
UID:e.2957.5216
SEQUENCE:3
DTSTAMP:20260423T220242Z
URL:https://www.westsacramentochamber.com/events/details/mental-health-awareness-month-how-gratitude-changes-our-money-attitude-5216
END:VEVENT

END:VCALENDAR
