BEGIN:VCALENDAR
VERSION:2.0
PRODID:-//ChamberMaster//Event Calendar 2.0//EN
METHOD:PUBLISH
X-PUBLISHED-TTL:P3D
REFRESH-INTERVAL:P3D
CALSCALE:GREGORIAN
BEGIN:VEVENT
DTSTART:20230614T010000Z
DTEND:20230614T023000Z
X-MICROSOFT-CDO-ALLDAYEVENT:FALSE
SUMMARY:Meet SAFE's Mortgage Team\, Find Your Way Home (Presented by SAFE Credit Union)
DESCRIPTION:Excited about buying a home\, but not sure if now is the right time? SAFE's Mortgage Team is here to navigate you through the current market as you start your journey to homebuying. Join us for a no-cost\, in-person event as we discuss:   Homebuying affordability   Understanding credit criteria   The home-buying experience Refreshments will be provided.
X-ALT-DESC;FMTTYPE=text/html:Excited about buying a home\, but not sure if now is the right time? SAFE&#39\;s Mortgage Team is here to navigate you through the current market as you start your journey to homebuying. Join us for a no-cost\, in-person event as we discuss: &bull\; Homebuying affordability &bull\; Understanding credit criteria &bull\; The home-buying experience Refreshments will be provided.
LOCATION:SAFE Corporate HQ 2295 Iron Point Rd.\, #100 Folsom\, CA 95630
UID:e.2957.4115
SEQUENCE:3
DTSTAMP:20260425T030804Z
URL:https://www.westsacramentochamber.com/events/details/meet-safe-s-mortgage-team-find-your-way-home-presented-by-safe-credit-union-4115
END:VEVENT

END:VCALENDAR
