BEGIN:VCALENDAR
VERSION:2.0
PRODID:-//ChamberMaster//Event Calendar 2.0//EN
METHOD:PUBLISH
X-PUBLISHED-TTL:P3D
REFRESH-INTERVAL:P3D
CALSCALE:GREGORIAN
BEGIN:VEVENT
DTSTART:20230519T003000Z
DTEND:20230519T040000Z
X-MICROSOFT-CDO-ALLDAYEVENT:FALSE
SUMMARY:Mayor Martha Guerrero State of the City Address
DESCRIPTION:Thank you for your interest in attending State of the City! Unfortunately\, we are sold out. If you would like to be place on a waiting list\, please contact Andrea Van Cleave at andrea@westsacramentochamber.com or (916) 371-7042 x 101. The waiting list does not guarantee you a spot and it's first come\, first serve. \n\n\n\nYou're invited to West Sacramento's biggest event of the year! Hear first-hand from Mayor Martha Guerrero about the achievements our city has made and the innovative plans for the future of West Sacramento. \n\n\n\nWest Sacramento is known for being forward-thinking and getting things done. This is your opportunity to celebrate our city and be in the know about plans for an even brighter future. \n\n\n\n5:30pm Registration\n\n5:30pm-6:30pm Networking/ Cocktail Reception (cash bar)\n\n6:30pm-9:00pm Dinner & Program \n\n*Valet parking is avaiable\n\n\n\nTable Sponsorship $1\,750 - Includes ten (10) reserved seats with your guest\, dinner\, recognition in the event program\, event signage\, "Thank you" E-blast with logo and clickable link to sponsor's website\, and logo on centerpiece. \n\n\n\nIndividual ticket $150 - Includes one (1) seat at event + dinner\n\n\n\nIn order to secure your ticket or table\, payment must be processed at time of registration. If this is a corporate purchase\, please contact the Chamber office. *ticket sales are final and non-refundable.
X-ALT-DESC;FMTTYPE=text/html:<p><span style="color:#000000\;"><strong>Thank you for your interest in attending State of the City! Unfortunately\, we are&nbsp\;sold out. If you would like to be place on a waiting list\, please contact Andrea Van Cleave at andrea@westsacramentochamber.com or (916) 371-7042 x 101. The waiting list does not guarantee you a spot and it&#39\;s first come\, first serve.&nbsp\;</strong><br />\n<br />\nYou&#39\;re invited to West Sacramento&#39\;s biggest event of the year! Hear first-hand from Mayor Martha Guerrero about the achievements our city has made and the innovative plans for the future of West Sacramento.&nbsp\;<br />\n<br />\nWest Sacramento is known for being forward-thinking and getting things done. This is your opportunity to celebrate our city and be in the know about plans for an even brighter future.&nbsp\;<br />\n<br />\n5:30pm Registration<br />\n5:30pm-6:30pm Networking/ Cocktail Reception (cash bar)<br />\n6:30pm-9:00pm Dinner&nbsp\;&amp\; Program&nbsp\;<br />\n*Valet parking is avaiable<br />\n<br />\n<strong>Table Sponsorship $1\,750</strong> - Includes ten (10) reserved seats with your guest\, dinner\, recognition in the event program\, event signage\, &quot\;Thank you&quot\; E-blast with logo and clickable link to sponsor&#39\;s website\, and logo on centerpiece.&nbsp\;<br />\n<br />\n<strong>Individual ticket $150</strong> - Includes one (1) seat at event + dinner</span><br />\n<br />\n<span style="color: rgb(51\, 51\, 51)\; font-family: sans-serif\, Arial\, Verdana\, &quot\;Trebuchet MS&quot\;\; font-size: 13px\; background-color: rgb(255\, 255\, 255)\;">In order to secure your ticket or table\, payment must be processed at time of registration. If this is a corporate purchase\, please contact the Chamber office.&nbsp\;</span><em style="color: rgb(51\, 51\, 51)\; font-family: sans-serif\, Arial\, Verdana\, &quot\;Trebuchet MS&quot\;\; font-size: 13px\; background-color: rgb(255\, 255\, 255)\;">*ticket sales are final and non-refundable.</em></p>\n
LOCATION:West Sac City Hall - Galleria 1110 W Capitol Ave West Sacramento\, CA 95691
UID:e.2957.4093
SEQUENCE:3
DTSTAMP:20260425T232742Z
URL:https://www.westsacramentochamber.com/events/details/mayor-martha-guerrero-state-of-the-city-address-4093
END:VEVENT

END:VCALENDAR
