BEGIN:VCALENDAR
VERSION:2.0
PRODID:-//ChamberMaster//Event Calendar 2.0//EN
METHOD:PUBLISH
X-PUBLISHED-TTL:P3D
REFRESH-INTERVAL:P3D
CALSCALE:GREGORIAN
BEGIN:VEVENT
DTSTART:20220722T003000Z
DTEND:20220722T040000Z
X-MICROSOFT-CDO-ALLDAYEVENT:FALSE
SUMMARY:Mayor Martha Guerrero's State of the City Address
DESCRIPTION:THIS EVENT IS SOLD OUT! TICKETS ARE NO LONGER AVAILABLE. \n\n\n\nYou're invited to West Sacramento's biggest networking event of the year. Hear first-hand from Mayor Martha Guerrero about the achievements our city has made and the innovative plans for the future of West Sacramento. \n\n\n\nWest Sacramento is known for being forward-thinking and getting things done. This is your opportunity to celebrate our city and be in the know about plans for an even brighter future. \n\n\n\nCocktails and networking beings at 5:30pm. Dinner and program will begin promptly at 7:00pm. \n\n\n\nSponsorship table (seats 8) \n\n$1\,400\n\n\n\nIndividual ticket\n\n$125
X-ALT-DESC;FMTTYPE=text/html:<strong><span style="color:#FF0000\;">THIS EVENT IS SOLD OUT! TICKETS ARE NO LONGER AVAILABLE.&nbsp\;</span></strong><br />\n<br />\nYou&#39\;re invited to West Sacramento&#39\;s biggest networking event of the year. Hear first-hand from Mayor Martha Guerrero about the achievements our city has made and the innovative plans for the future of West Sacramento.&nbsp\;<br />\n<br />\nWest Sacramento is known for being forward-thinking and getting things done. This is your opportunity to celebrate our city and be in the know about plans for an even brighter future.&nbsp\;<br />\n<br />\nCocktails and networking beings at 5:30pm. Dinner and program will begin promptly at 7:00pm.&nbsp\;<br />\n<br />\nSponsorship table (seats 8)&nbsp\;<br />\n$1\,400<br />\n<br />\nIndividual ticket<br />\n$125&nbsp\;
LOCATION:Civic Center Galleria 1110 West Capitol Ave West Sacramento\, CA 95691
UID:e.2957.3589
SEQUENCE:3
DTSTAMP:20260425T184631Z
URL:https://www.westsacramentochamber.com/events/details/mayor-martha-guerrero-s-state-of-the-city-address-3589
END:VEVENT

END:VCALENDAR
