BEGIN:VCALENDAR
VERSION:2.0
PRODID:-//ChamberMaster//Event Calendar 2.0//EN
METHOD:PUBLISH
X-PUBLISHED-TTL:P3D
REFRESH-INTERVAL:P3D
CALSCALE:GREGORIAN
BEGIN:VEVENT
DTSTART:20140328T160000Z
DTEND:20140328T230000Z
X-MICROSOFT-CDO-ALLDAYEVENT:FALSE
SUMMARY:Mayor Cabaldon presents ''Get Your Business Online'': A FREE seminar to get WS business' on the world wide web!
DESCRIPTION:PARTICIPANTS MAY DROP IN FOR WEBINAR/ ASSISTANCE ANYTIME DURING THE 9:00am-4:00pm TIME SLOTFREE!Beginner Session 9:00am-10:00am OR 12:00pm-1:00pmHow to create a website with Homestead: Directed by Frank Scuzzo of SCORE. Make a website for free and go live in one hour!Business Listing on Google: Customers will be able to find your business in Google.com search results\, Google Maps\, Google+ and on mobile devices. It's the easiest way for your business to be found online\, no matter where people are looking for you.Easy-to- build Website: Choose a design and customize it with a description and photos of your business. Then show the world with easy publishing and social media integration.Customized Domain Name:This is your "address" on the web (for example\, www.yourbusiness.com). We'll register your chosen domain name and cover the hosting costs. Both free for an entire year. Intermediate Session 10:00am- 11:00am OR 1:00pm- 2:00pmOk\, my business is online\, now what? Directed byDavid Abramson of MakeYourselfVisible.com. How to increase the visibility of your business online and get more customers. Expand the online presence for your business: How to promote your business online and attract new customersMeasuring the success of your business online: How to use Google Analytics to measure online traffic
X-ALT-DESC;FMTTYPE=text/html:<p><strong>PARTICIPANTS MAY DROP IN FOR WEBINAR/ ASSISTANCE ANYTIME DURING THE 9:00am-4:00pm TIME SLOT</strong></p><p><span style="color:#3366ff\;font-size:small\;"><span style="color:#3366ff\;font-size:small\;"><span lang="EN" style="color:#000000\;"></span></span></span></p><p><strong>FREE!</strong></p><p><span lang="EN" style="color:#000000\;"><p><strong><span style="color:#3300cc\;">Beginner Session&nbsp\;9:00am-10:00am OR 12:00pm-1:00pm</span></strong></p><p><strong><span style="color:#3300cc\;"><a></a></span></strong></p></span></p><p><strong>How to create a website with Homestead: Directed by Frank Scuzzo of SCORE. Make a website for free and go live in one hour!</strong><span lang="EN"><a></a><a></a><a></a><a></a></span><span lang="EN"></span><span lang="EN"></span><span lang="EN"></span><span lang="EN"></span></p><p><strong><em>Business Listing on Google:</em></strong><span style="color:#000000\;"> Customers will be able to find your business in Google.com search results\, Google Maps\, Google+ and on mobile devices. It's the easiest way for your business to be found online\, no matter where people are looking for you.</span></p><p><strong><em>Easy-to- build Website: </em></strong><span style="color:#000000\;">Choose a design and customize it with a description and photos of your business.&nbsp\;Then show the world with easy publishing and social media integration.</span></p><p><span style="color:#000000\;"><strong><em>Customized Domain Name:</em></strong>This is your "address" on the web (for example\, www.yourbusiness.com). We'll register your chosen domain name and cover the hosting costs. Both free for an entire year.&nbsp\;</span></p><p><span style="color:#000099\;"><strong>Intermediate Session 10:00am- 11:00am OR 1:00pm- 2:00pm</strong></span></p><p><span style="color:#3366ff\;font-size:small\;"><span style="color:#3366ff\;font-size:small\;"><span lang="EN" style="color:#000000\;"><span lang="EN"><a></a><a></a><a></a><a></a><a></a><a></a><a></a><a></a><a></a><a></a><a></a><a></a><a></a><a></a><a></a><a></a><a></a><a></a><a></a><a></a><a></a><a></a><strong>Ok\, my business is online\, now what? Directed byDavid Abramson of MakeYourselfVisible.com. </strong></span></span></span></span></p><p><span style="color:#3366ff\;font-size:small\;"><span style="color:#3366ff\;font-size:small\;"><span lang="EN" style="color:#000000\;"><span lang="EN"><strong>How to increase the visibility of your business online and get more customers. </strong></span></span></span></span></p><p><span style="color:#3366ff\;font-size:small\;"><span style="color:#3366ff\;font-size:small\;"><span lang="EN" style="color:#000000\;"><span lang="EN"></span></span></span></span>Expand the online presence for your business: How to promote your business online and attract new customers</p><p>Measuring the success of your business online: How to use Google Analytics to measure online traffic</p>
LOCATION:West Sacramento Community Center 1075 West Capitol Ave\, West Sacramento\, Ca 95691
UID:e.2957.1294
SEQUENCE:3
DTSTAMP:20260423T104043Z
URL:https://www.westsacramentochamber.com/events/details/mayor-cabaldon-presents-get-your-business-online-a-free-seminar-to-get-ws-business-on-the-world-wide-web-1294
END:VEVENT

END:VCALENDAR
