BEGIN:VCALENDAR
VERSION:2.0
PRODID:-//ChamberMaster//Event Calendar 2.0//EN
METHOD:PUBLISH
X-PUBLISHED-TTL:P3D
REFRESH-INTERVAL:P3D
CALSCALE:GREGORIAN
BEGIN:VEVENT
DTSTART:20100602T153000Z
DTEND:20100602T233000Z
X-MICROSOFT-CDO-ALLDAYEVENT:FALSE
SUMMARY:Maximizing Your Memory
DESCRIPTION:Take Action on Improving Your Memory\n\nWe all struggle with memory challenges at work\, home\, and other parts of our lives.  Even though it costs us valuable time\, money\, frustration\, and relationships\, very few of us actually do something about it.  Don't sit by idly while your memory slips away.  Take action to improve your memory.  \n\nMaximizing Your Memory is a dynamic\, fast-paced program where you will learn principles and techniques to improve your life including: \n\n1) Basics to improve memory\n\n2) Multiple techniques to remember lists\, to-do's\, and procedures\n\n3) Steps to jogging your memory\n\n4) Keys to remembering faces and names\n\n5) Much more\n\nSpend the day with one of the most engaging memory trainers in the country. Michael Lawrence Green keeps his students up\, learning and having fun.  You will definitely experience immediate improvement in the classroom and beyond! It will be a day that you will never forget!\n\nTime: 8:30AM - 4:30PM\n\nInvestment: $249 (includes live training and workbook)\n\nSign up for Maximizing Your Memory Today! What's your memory worth? Priceless!\n\nFor more information or to reserve your seat\, please call 530-297-6464.
X-ALT-DESC;FMTTYPE=text/html:Take Action on Improving Your Memory\n\nWe all struggle with memory challenges at work\, home\, and other parts of our lives.  Even though it costs us valuable time\, money\, frustration\, and relationships\, very few of us actually do something about it.  Don't sit by idly while your memory slips away.  Take action to improve your memory.  \n\nMaximizing Your Memory is a dynamic\, fast-paced program where you will learn principles and techniques to improve your life including: \n\n1) Basics to improve memory\n\n2) Multiple techniques to remember lists\, to-do's\, and procedures\n\n3) Steps to jogging your memory\n\n4) Keys to remembering faces and names\n\n5) Much more\n\nSpend the day with one of the most engaging memory trainers in the country. Michael Lawrence Green keeps his students up\, learning and having fun.  You will definitely experience immediate improvement in the classroom and beyond! It will be a day that you will never forget!\n\nTime: 8:30AM - 4:30PM\n\nInvestment: $249 (includes live training and workbook)\n\nSign up for Maximizing Your Memory Today! What's your memory worth? Priceless!\n\nFor more information or to reserve your seat\, please call 530-297-6464. \n
LOCATION:Radisson Sacramento\, Sacramento\, CA 95815 Radisson Sacramento From West Sacramento 1.Merge onto I-80 BUS E/US-50 E via the ramp to Sacramento 2.6 mi 2. Take the I-80 exit toward Reno 1.0 mi 3. Merge onto Capitol City Fwy/Elvas Fwy/I-80 BUS E 2.7 mi 4. Take the Exposition Blvd exit 0.2 mi 5. Keep left at the fork\, follow signs for Exposition Blvd W 194 ft 6. Turn left at Exposition Blvd 0.5 mi 7. Turn left at Leisure Ln Destination will be on the left 0.2 mi Radisson Hotel Sacramento 500 Leisure LaneSacramento\, CA 95815
UID:e.2957.998
SEQUENCE:3
DTSTAMP:20260422T150712Z
URL:https://www.westsacramentochamber.com/events/details/maximizing-your-memory-998
END:VEVENT

END:VCALENDAR
