BEGIN:VCALENDAR
VERSION:2.0
PRODID:-//ChamberMaster//Event Calendar 2.0//EN
METHOD:PUBLISH
X-PUBLISHED-TTL:P3D
REFRESH-INTERVAL:P3D
CALSCALE:GREGORIAN
BEGIN:VEVENT
DTSTART:20090207T210000Z
DTEND:20090207T210000Z
X-MICROSOFT-CDO-ALLDAYEVENT:FALSE
SUMMARY:Mary Kay Cosmetics and YOU can help support the California North Stars Hockey League
DESCRIPTION:You can help support a local youth and adult hockey league that is in desperate need!  The California North Stars are non-profit and hold practice at Sacramento's historic Iceland skating rink in Natomas. Proceeds from any purchase made at www.marykay.com/dkillian (code:CNS in comment section) or any party booked will directly benefit the CNS organization. For sponsorship information is also available.
X-ALT-DESC;FMTTYPE=text/html:You can help support a local youth and adult hockey league that is in desperate need!  The California North Stars are non-profit and hold practice at Sacramento's historic Iceland skating rink in Natomas. Proceeds from any purchase made at www.marykay.com/dkillian (code:CNS in comment section) or any party booked will directly benefit the CNS organization. For sponsorship information is also available.  
LOCATION:no location
UID:e.2957.784
SEQUENCE:3
DTSTAMP:20260425T204352Z
URL:https://www.westsacramentochamber.com/events/details/mary-kay-cosmetics-and-you-can-help-support-the-california-north-stars-hockey-league-784
END:VEVENT

END:VCALENDAR
