BEGIN:VCALENDAR
VERSION:2.0
PRODID:-//ChamberMaster//Event Calendar 2.0//EN
METHOD:PUBLISH
X-PUBLISHED-TTL:P3D
REFRESH-INTERVAL:P3D
CALSCALE:GREGORIAN
BEGIN:VEVENT
DTSTART:20110922T160000Z
DTEND:20110922T190000Z
X-MICROSOFT-CDO-ALLDAYEVENT:FALSE
SUMMARY:Marketing to the Government
DESCRIPTION:Cost: FREE\nDescription:\n This introductory class describes how to: \n• Decide if the government marketplace is the right \n  customer for your company\n• Understand the government customer\n• Evaluate the government market\n• Evaluate your capabilities\n• Apply four key marketing principles to government sales\n• Make contact\nRegister at www.TheFTC.org or call 866.382.7822
X-ALT-DESC;FMTTYPE=text/html:Cost: FREE\nDescription:\n This introductory class describes how to: \n• Decide if the government marketplace is the right \n  customer for your company\n• Understand the government customer\n• Evaluate the government market\n• Evaluate your capabilities\n• Apply four key marketing principles to government sales\n• Make contact\nRegister at www.TheFTC.org or call 866.382.7822
LOCATION:330 Fair Lane\, Building A\, OES Conference Room\, Placerville\, CA 95667 El Dorado County
UID:e.2957.1099
SEQUENCE:3
DTSTAMP:20260423T090717Z
URL:https://www.westsacramentochamber.com/events/details/marketing-to-the-government-1099
END:VEVENT

END:VCALENDAR
