BEGIN:VCALENDAR
VERSION:2.0
PRODID:-//ChamberMaster//Event Calendar 2.0//EN
METHOD:PUBLISH
X-PUBLISHED-TTL:P3D
REFRESH-INTERVAL:P3D
CALSCALE:GREGORIAN
BEGIN:VEVENT
DTSTART:20090818T160000Z
DTEND:20090818T190000Z
X-MICROSOFT-CDO-ALLDAYEVENT:FALSE
SUMMARY:Marketing to Government
DESCRIPTION:Cost: FREE \n\nDescription:\nThis introductory class describes how to: \n• Decide if the government marketplace is the right \n  customer for your company\n• Understand the government customer\n• Evaluate the government market\n• Evaluate your capabilities\n• Apply four key marketing principles to government sales\n• Make contact
X-ALT-DESC;FMTTYPE=text/html:Cost: FREE \n\nDescription:\nThis introductory class describes how to: \n• Decide if the government marketplace is the right \n  customer for your company\n• Understand the government customer\n• Evaluate the government market\n• Evaluate your capabilities\n• Apply four key marketing principles to government sales\n• Make contact
LOCATION:Elk Grove Chamber of Commerce\, Elk Grove\, CA 95758 Elk Grove Chamber of Commerce
UID:e.2957.884
SEQUENCE:3
DTSTAMP:20260425T160719Z
URL:https://www.westsacramentochamber.com/events/details/marketing-to-government-08-18-2009-884
END:VEVENT

END:VCALENDAR
