BEGIN:VCALENDAR
VERSION:2.0
PRODID:-//ChamberMaster//Event Calendar 2.0//EN
METHOD:PUBLISH
X-PUBLISHED-TTL:P3D
REFRESH-INTERVAL:P3D
CALSCALE:GREGORIAN
BEGIN:VEVENT
DTSTART:20110412T160000Z
DTEND:20110412T190000Z
X-MICROSOFT-CDO-ALLDAYEVENT:FALSE
SUMMARY:Marketing to Government
DESCRIPTION:Cost: FREE\nDescription:\nThis introductory class describes how to: \n• Decide if the government marketplace is the right \n  customer for your company\n• Understand the government customer\n• Evaluate the government market\n• Evaluate your capabilities\n• Apply four key marketing principles to government sales\n• Make contact\n  \nRegister at www.theftc.org or call 866.382.7822
X-ALT-DESC;FMTTYPE=text/html:Cost: FREE\nDescription:\nThis introductory class describes how to: \n• Decide if the government marketplace is the right \n  customer for your company\n• Understand the government customer\n• Evaluate the government market\n• Evaluate your capabilities\n• Apply four key marketing principles to government sales\n• Make contact\n  \nRegister at www.theftc.org or call 866.382.7822
LOCATION:925 Del Paso Boulevard\, Sacramento\, CA 95815 Del Paso Business Information\, 925 Del Paso Boulevard\, Sacramento
UID:e.2957.1061
SEQUENCE:3
DTSTAMP:20260423T121216Z
URL:https://www.westsacramentochamber.com/events/details/marketing-to-government-04-12-2011-1061
END:VEVENT

END:VCALENDAR
