BEGIN:VCALENDAR
VERSION:2.0
PRODID:-//ChamberMaster//Event Calendar 2.0//EN
METHOD:PUBLISH
X-PUBLISHED-TTL:P3D
REFRESH-INTERVAL:P3D
CALSCALE:GREGORIAN
BEGIN:VEVENT
DTSTART:20120224T030000Z
DTEND:20120224T043000Z
X-MICROSOFT-CDO-ALLDAYEVENT:FALSE
SUMMARY:Learn about Home Energy Savings!
DESCRIPTION:Join us for a free library event to learn about home energy savings!\n\n- Find out how much electricity your household appliances really use: Yolo Energy Watch will demonstrate how to use a watt meter and how you can borrow one from your library\n- Learn about Pacific Gas & Electric's home energy programs\n- Hear about rebates and incentives: Energy Upgrade California has resources to help you make your home more energy efficient\n\nSponsored by the Yolo County Library in partnership with: Yolo Energy Watch\, Pacific Gas & Electric Company\, and Energy Upgrade California
X-ALT-DESC;FMTTYPE=text/html:Join us for a free library event to learn about home energy savings!\n\n- Find out how much electricity your household appliances really use: Yolo Energy Watch will demonstrate how to use a watt meter and how you can borrow one from your library\n- Learn about Pacific Gas & Electric's home energy programs\n- Hear about rebates and incentives: Energy Upgrade California has resources to help you make your home more energy efficient\n\nSponsored by the Yolo County Library in partnership with: Yolo Energy Watch\, Pacific Gas & Electric Company\, and Energy Upgrade California
LOCATION:1212 Merkley Avenue\, West Sacramento\, CA 95691 Arthur F. Turner Library
UID:e.2957.1119
SEQUENCE:3
DTSTAMP:20260424T112307Z
URL:https://www.westsacramentochamber.com/events/details/learn-about-home-energy-savings-1119
END:VEVENT

END:VCALENDAR
