BEGIN:VCALENDAR
VERSION:2.0
PRODID:-//ChamberMaster//Event Calendar 2.0//EN
METHOD:PUBLISH
X-PUBLISHED-TTL:P3D
REFRESH-INTERVAL:P3D
CALSCALE:GREGORIAN
BEGIN:VEVENT
DTSTART:20080911T160000Z
DTEND:20080911T180000Z
X-MICROSOFT-CDO-ALLDAYEVENT:FALSE
SUMMARY:Keys to a Profitable Business - Budgeting
DESCRIPTION:The most important question you'll always be asked is\, ''How will you make money?'' Be sure you know the right answers. Taught by experienced professionals\, this workshop will prepare you with the answers. Learn how to prepare a Balance Sheet\, Income Statement\, Cash Flow\, and Break-even Analysis. Learn critical steps to pricing your products or services\, and simple methods to easily create a profit. You will receive a free Excel template to easily create your own financial statements.\n\nPresented by SCORE\n\nTo register call 916-635-9085\nor online at http://www.sacscore.org/
X-ALT-DESC;FMTTYPE=text/html:The most important question you'll always be asked is\, ''How will you make money?'' Be sure you know the right answers. Taught by experienced professionals\, this workshop will prepare you with the answers. Learn how to prepare a Balance Sheet\, Income Statement\, Cash Flow\, and Break-even Analysis. Learn critical steps to pricing your products or services\, and simple methods to easily create a profit. You will receive a free Excel template to easily create your own financial statements.\n\nPresented by SCORE\n\nTo register call 916-635-9085\nor online at http://www.sacscore.org/\n\n\n
LOCATION:925 Del Paso Blvd #100\, Sacramento\, CA 95815 925 Del Paso Blvd #100
UID:e.2957.692
SEQUENCE:3
DTSTAMP:20260426T042139Z
URL:https://www.westsacramentochamber.com/events/details/keys-to-a-profitable-business-budgeting-09-11-2008-692
END:VEVENT

END:VCALENDAR
