BEGIN:VCALENDAR
VERSION:2.0
PRODID:-//ChamberMaster//Event Calendar 2.0//EN
METHOD:PUBLISH
X-PUBLISHED-TTL:P3D
REFRESH-INTERVAL:P3D
CALSCALE:GREGORIAN
BEGIN:VEVENT
DTSTART:20120517T050000Z
DTEND:20120516T213000Z
X-MICROSOFT-CDO-ALLDAYEVENT:FALSE
SUMMARY:Job Fair
DESCRIPTION:Job Fair for Veterans and Young Adults hosted by Treat 'Em Like A King Foundation (TLK). \n40+ employers invited to attend.  Home Depot\, Walmart\, Pasco Scientific\, VSP\, retailers\, financial services co\, and much more.  Several radio stations and professional athletes will be an attendance to show support for putting our unemployed veterans and young adults back to work.  Our website has all the information needed: tlkfoundation.org
X-ALT-DESC;FMTTYPE=text/html:Job Fair for Veterans and Young Adults hosted by Treat 'Em Like A King Foundation (TLK). \n40+ employers invited to attend.  Home Depot\, Walmart\, Pasco Scientific\, VSP\, retailers\, financial services co\, and much more.  Several radio stations and professional athletes will be an attendance to show support for putting our unemployed veterans and young adults back to work.  Our website has all the information needed: tlkfoundation.org
LOCATION:1091 Tinker Road\, Suite 100\, Rocklin\, CA 95765 Hardwood Palace in Rocklin\, CA
UID:e.2957.1150
SEQUENCE:3
DTSTAMP:20260422T200858Z
URL:https://www.westsacramentochamber.com/events/details/job-fair-1150
END:VEVENT

END:VCALENDAR
