BEGIN:VCALENDAR
VERSION:2.0
PRODID:-//ChamberMaster//Event Calendar 2.0//EN
METHOD:PUBLISH
X-PUBLISHED-TTL:P3D
REFRESH-INTERVAL:P3D
CALSCALE:GREGORIAN
BEGIN:VEVENT
DTSTART:20081120T170000Z
DTEND:20081120T200000Z
X-MICROSOFT-CDO-ALLDAYEVENT:FALSE
SUMMARY:Introduction to Federal Contracting
DESCRIPTION:Cost: FREE \n\nDescription:\nThis Seminar will cover:\n    • Where your company fits into the Federal government market\n    • The Federal government purchasing process \n    • How to research government contract opportunities\n    • Certification programs for small businesses. \n    • Where to go for assistance \n\nRegister online at: www.TheFTC.org
X-ALT-DESC;FMTTYPE=text/html:Cost: FREE \n\nDescription:\nThis Seminar will cover:\n    • Where your company fits into the Federal government market\n    • The Federal government purchasing process \n    • How to research government contract opportunities\n    • Certification programs for small businesses. \n    • Where to go for assistance \n\nRegister online at: www.TheFTC.org
LOCATION:200 Wool Street\, Folsom\, CA 95630 Folsom Chamber of Commerce
UID:e.2957.722
SEQUENCE:3
DTSTAMP:20260426T034529Z
URL:https://www.westsacramentochamber.com/events/details/introduction-to-federal-contracting-11-20-2008-722
END:VEVENT

END:VCALENDAR
