BEGIN:VCALENDAR
VERSION:2.0
PRODID:-//ChamberMaster//Event Calendar 2.0//EN
METHOD:PUBLISH
X-PUBLISHED-TTL:P3D
REFRESH-INTERVAL:P3D
CALSCALE:GREGORIAN
BEGIN:VEVENT
DTSTART:20110929T160000Z
DTEND:20110929T190000Z
X-MICROSOFT-CDO-ALLDAYEVENT:FALSE
SUMMARY:Introduction to Federal Contracting
DESCRIPTION:Cost: FREE\nDescription:\nThis class will cover:\n• Where your company fits into the Federal government market\n• The Federal government purchasing process \n• How to research government contract opportunities\n• Certification programs for small businesses\n• Where to go for assistance\nRegister at www.TheFTC.org or call 866.382.7822
X-ALT-DESC;FMTTYPE=text/html:Cost: FREE\nDescription:\nThis class will cover:\n• Where your company fits into the Federal government market\n• The Federal government purchasing process \n• How to research government contract opportunities\n• Certification programs for small businesses\n• Where to go for assistance\nRegister at www.TheFTC.org or call 866.382.7822
LOCATION:3700 Rocklin Road\, Rocklin\, CA 95677 Rocklin Chamber of Commerce
UID:e.2957.1100
SEQUENCE:3
DTSTAMP:20260423T103929Z
URL:https://www.westsacramentochamber.com/events/details/introduction-to-federal-contracting-09-29-2011-1100
END:VEVENT

END:VCALENDAR
