BEGIN:VCALENDAR
VERSION:2.0
PRODID:-//ChamberMaster//Event Calendar 2.0//EN
METHOD:PUBLISH
X-PUBLISHED-TTL:P3D
REFRESH-INTERVAL:P3D
CALSCALE:GREGORIAN
BEGIN:VEVENT
DTSTART:20140305T170000Z
DTEND:20140305T200000Z
X-MICROSOFT-CDO-ALLDAYEVENT:FALSE
SUMMARY:I'm on LinkedIn. Now What
DESCRIPTION:Learn how to utilize LinkedIn to its fullest potential! Thousands of people are making meaningful connections everyday with LinkedIn- make sure you are one of them.\n$89 includes admission to the LinkedIn workshop\, one year print/digital subscription to the Sacramento Business Journal\, lunch by Outback Steakhouse
X-ALT-DESC;FMTTYPE=text/html:Learn how to utilize LinkedIn to its fullest potential! Thousands of people are making meaningful connections everyday with LinkedIn- make sure you are one of them.\n$89 includes admission to the LinkedIn workshop\, one year print/digital subscription to the Sacramento Business Journal\, lunch by Outback Steakhouse\n
LOCATION:Sacramento Marina\, Sacramento\, CA 95818 Sacramento Marina 2710 Ramp Way Sacramento CA 95818
UID:e.2957.1288
SEQUENCE:3
DTSTAMP:20260423T103720Z
URL:https://www.westsacramentochamber.com/events/details/i-m-on-linkedin-now-what-1288
END:VEVENT

END:VCALENDAR
